BEGIN:VCALENDAR
VERSION:2.0
METHOD:PUBLISH
PRODID:-//Accessible Web Design//My Calendar//http://www.joedolson.com//v3.3.24.1//EN';
BEGIN:VEVENT
UID:776-553
LOCATION:
SUMMARY:Gefahrgutausbildung, Basiskurs
DTSTAMP:20250509T000000
ORGANIZER;CN=C. Stiletto:MAILTO:carmen.stiletto@vae-gmbh.de
DTSTART:20250509T000000
DTEND:20250525T000000
CATEGORIES:Gefahrgut Aus-/Fortbildung
URL;VALUE=URI:
DESCRIPTION;ENCODING=QUOTED-PRINTABLE:Schulungstage:Freitag, 09.05.2025, 17.00 - 20.15Samstag, 10.05.2025, 08.00 - 15.00 UhrSamstag, 24.05.2025, 08.00 - 15.00 Uhr 
X-FUNAMBOL-ALLDAY: 1
X-MICROSOFT-CDO-ALLDAYEVENT: TRUE

END:VEVENT
END:VCALENDAR