BEGIN:VCALENDAR
VERSION:2.0
METHOD:PUBLISH
PRODID:-//Accessible Web Design//My Calendar//http://www.joedolson.com//v3.3.24.1//EN';
BEGIN:VEVENT
UID:795-671
LOCATION:
SUMMARY:Führerschein PKW (Klasse B) und Moped (Klasse AM) - Theorie Kompaktkurs
DTSTAMP:20260409T000000
ORGANIZER;CN=C. Stiletto:MAILTO:carmen.stiletto@vae-gmbh.de
DTSTART:20260409T000000
DTEND:20260419T000000
CATEGORIES:Führerschein A / B
URL;VALUE=URI:
DESCRIPTION;ENCODING=QUOTED-PRINTABLE: 
X-FUNAMBOL-ALLDAY: 1
X-MICROSOFT-CDO-ALLDAYEVENT: TRUE

END:VEVENT
END:VCALENDAR